BEGIN:VCALENDAR
VERSION:2.0
PRODID:-//Monique Bogedein - ECPv6.15.20//NONSGML v1.0//EN
CALSCALE:GREGORIAN
METHOD:PUBLISH
X-WR-CALNAME:Monique Bogedein
X-ORIGINAL-URL:https://monique-bogedein.de
X-WR-CALDESC:Veranstaltungen für Monique Bogedein
REFRESH-INTERVAL;VALUE=DURATION:PT1H
X-Robots-Tag:noindex
X-PUBLISHED-TTL:PT1H
BEGIN:VTIMEZONE
TZID:UTC
BEGIN:STANDARD
TZOFFSETFROM:+0000
TZOFFSETTO:+0000
TZNAME:UTC
DTSTART:20250101T000000
END:STANDARD
END:VTIMEZONE
BEGIN:VEVENT
DTSTART;TZID=UTC:20260425T150000
DTEND;TZID=UTC:20260425T170000
DTSTAMP:20260424T123355
CREATED:20260424T081531Z
LAST-MODIFIED:20260424T090607Z
UID:2589-1777129200-1777136400@monique-bogedein.de
SUMMARY:WELT-TAIJI-UND-QIGONG-TAG
DESCRIPTION:DAS ERWARTET SIE:\n\n\n\n\nFeiern Sie den Welt-Taiji-und-Qigong-Tag mit einer ganz besonderen Einheit unter freiem Himmel an der Spree! \nIch lade Sie herzlich zu einem offenen und kostenfreien Training des Chen-Stil Taijiquan und Qigong in Fürstenwalde/Spree ein. \nIn dieser Einheit möchte ich Ihnen das Chen-Stil Taijiquan und Qigong näherbringen mit seinen fließenden Bewegungen\, der achtsamen Ausführung und den kraftvollen Verbindung von Körper und Geist – direkt in der Natur. \nDie Teilnahme ist für alle Interessierten geeignet – ganz gleich\, ob Sie erste Erfahrungen mit Taijiquan (Tai Chi) oder Qigong sammeln möchten oder bereits vertraut mit der Praxis sind. Die Übungen stelle ich so zusammen\, dass jeder\, unabhängig von Alter und Fitnesslevel\, diese bequem durchführen kann. \nAlles\, was Sie benötigen\, ist bequeme Kleidung\, etwas zu Trinken und gute Laune für ein angenehmes Miteinander. \n\n\n\n\nKOSTEN – INVESTITION IN DIE EIGENE GESUNDHEIT:\n\n\n\n\nIm Zuge des Welt Taiji & Qigong Tages ist dies ein kostenfreies Angebot. \nDie Teilnahme ist kostenfrei – als Einladung an alle Interessierten\, die einen ersten lebendigen Eindruck von der Praxis gewinnen möchten\, und an alle die bereits aktiv Taiji oder Qigong praktizieren\, um an diesem Tag gemeinsam zu üben. \nDie Einheit bietet einen kleinen Einblick in die Tiefe von Taijiquan und Qigong und kann somit inspirieren und motivieren. Vielleicht ist es der erste Schritt auf Ihrem eigenen Weg diese Bewegungskunst zu entdecken. \n\n\n\n\n\n\nBitte melden Sie sich vorab an\, damit ich Ihnen den genauen Treffpunkt zusenden kann.
URL:https://monique-bogedein.de/event/welt-taiji-und-qigong-tag/
ATTACH;FMTTYPE=image/png:https://monique-bogedein.de/wp-content/uploads/2026/03/2026-04-25-Welt-Taiji-und-Qigong-Tag-2026.png
END:VEVENT
BEGIN:VEVENT
DTSTART;TZID=UTC:20260427T071000
DTEND;TZID=UTC:20260427T073000
DTSTAMP:20260424T123355
CREATED:20260424T081154Z
LAST-MODIFIED:20260424T111708Z
UID:2584-1777273800-1777275000@monique-bogedein.de
SUMMARY:Qigong Morgenroutine
DESCRIPTION:Das erwartet Sie:\n\n\n\n\nStarten Sie mit Qigong entspannt und gestärkt in den Tag. \nHaben Sie das Gefühl\, oft von den Anforderungen des Alltags überrollt zu werden? Wünschen Sie sich einen Moment der Ruhe\, bevor der Trubel des Tages beginnt? Mein neues Online-Angebot ab Januar 2025 bietet Ihnen genau das: einen harmonischen Start in den Tag mit Qigong – montags bis freitags\, direkt bei Ihnen zu Hause. \n\n\n\n\n\n\n\n\n\nGönnen Sie sich diesen Moment der inneren Stärke und starten Sie mit mir am Morgen – für Sie und Ihr tägliches Wohlbefinden. \nWeitere Infos: \n☯ tägliche 20-Minuten-Sessions (montags bis freitags)\n☯ Teilnahme live über Zoom oder flexible Teilnahme mit der täglichen Aufnahme\n☯ An Feiertagen (DE) können die Einheiten ggf. entfallen \n\n\n\n\nKOSTEN – INVESTITION IN DIE EIGENE GESUNDHEIT:\n\n\n\n\nAbo-Modell für Kontinuität und tiefe Veränderungen: \n☯ die ersten 14 Tage für 19 € – danach 49 € alle 4 Wochen\n☯ Automatische Verlängerung\n☯ monatlich kündbar\n☯ inklusive CTND-Mitgliedschaft mit deutschem Lehrmaterial\n☯ Austausch im CTND-Forum\n☯ 10 % Dauerrabatt auf CTND-Workshops und Seminare\n☯ Ideal für eine langfristige Routine
URL:https://monique-bogedein.de/event/qigong-morgenroutine-2/
ATTACH;FMTTYPE=image/jpeg:https://monique-bogedein.de/wp-content/uploads/2023/09/iStock-1297740194-3.jpg
END:VEVENT
END:VCALENDAR